BEGIN:VCALENDAR
VERSION:2.0
PRODID:-//eventon.com NONSGML v1.0//EN
CALSCALE:GREGORIAN
METHOD:PUBLISH
BEGIN:VEVENT
UID:69e88cbb5faf7
DTSTAMP:20260422T085419Z
DTSTART:20200731
DTEND:20200801
LOCATION:Walchenseeplatz Walchenseeplatz
SUMMARY:ArtMobil
DESCRIPTION:jeweils von 15 – 19 Uhr\nhttps://culture-clouds.de/events/art
 mobil-obergiesing/
URL:https://culture-clouds.de/events/artmobil-obergiesing/
END:VEVENT
END:VCALENDAR