BEGIN:VCALENDAR
VERSION:2.0
PRODID:-//eventon.com NONSGML v1.0//EN
CALSCALE:GREGORIAN
METHOD:PUBLISH
BEGIN:VEVENT
UID:69e73dcbdc07f
DTSTAMP:20260421T090515Z
DTSTART:20200817
DTEND:20200818
LOCATION:Münchner Kindl-Heim Oberbiberger Straße 43
SUMMARY:Zirkus Simsala – 2. Woche
DESCRIPTION:jeweils von 9 – 17 Uhr\nhttps://culture-clouds.de/events/zirk
 us-simsala-2/
URL:https://culture-clouds.de/events/zirkus-simsala-2/
END:VEVENT
END:VCALENDAR