BEGIN:VCALENDAR
VERSION:2.0
PRODID:-//eventon.com NONSGML v1.0//EN
CALSCALE:GREGORIAN
METHOD:PUBLISH
BEGIN:VEVENT
UID:69e890719d213
DTSTAMP:20260422T091009Z
DTSTART:20210624
DTEND:20210625
LOCATION:Bolzplatz am Umweltgarten
SUMMARY:Zirkus Pumpernudl
DESCRIPTION:jeweils von 14 – 18 Uhr\nhttps://culture-clouds.de/events/zir
 kus-pumpernudl-10/
URL:https://culture-clouds.de/events/zirkus-pumpernudl-10/
END:VEVENT
END:VCALENDAR