BEGIN:VCALENDAR
VERSION:2.0
PRODID:-//eventon.com NONSGML v1.0//EN
CALSCALE:GREGORIAN
METHOD:PUBLISH
BEGIN:VEVENT
UID:69e88a5fe87f9
DTSTAMP:20260422T084415Z
DTSTART:20220421
DTEND:20220422
LOCATION:Grünfläche An der Schäferwiese
SUMMARY:Zirkus Pumpernudl
DESCRIPTION:jeweils von 14 – 18 Uhr\nhttps://culture-clouds.de/events/zir
 kus-pumpernudl-28/
URL:https://culture-clouds.de/events/zirkus-pumpernudl-28/
END:VEVENT
END:VCALENDAR