BEGIN:VCALENDAR
VERSION:2.0
PRODID:-//eventon.com NONSGML v1.0//EN
CALSCALE:GREGORIAN
METHOD:PUBLISH
BEGIN:VEVENT
UID:69e4d925a44dc
DTSTAMP:20260419T133117Z
DTSTART:20220424
DTEND:20220425
LOCATION:Georg-Freundorfer-Platz Georg-Freundorfer-Platz
SUMMARY:Zirkus Pumpernudl
DESCRIPTION:jeweils von 14 – 18 Uhr\nhttps://culture-clouds.de/events/zir
 kus-pumpernudl-27/
URL:https://culture-clouds.de/events/zirkus-pumpernudl-27/
END:VEVENT
END:VCALENDAR